BEGIN:VCALENDAR
VERSION:2.0
PRODID:-//hacksw/handcal//NONSGML v1.0//EN
BEGIN:VEVENT
SUMMARY:CHAMPIONNAT REGIONAL PAR EQUIPES DRE – DR – DRJ
UID:bff650af-64dc-4edd-9e41-410bff17c9c0
DTSTART:20260425T070000Z
DTEND:20260426T153000Z
LOCATION:Localisation COMPLEXE LACHAZE 33440 ambares
CATEGORIES:Sportif
STATUS:
URL;VALUE=URI:https://asatiralarc.sportsregions.fr/evenements/2026/04/25/championnat-regional-par-equipes-dre-dr-drj-2442758
END:VEVENT
END:VCALENDAR
