BEGIN:VCALENDAR
VERSION:2.0
PRODID:-//hacksw/handcal//NONSGML v1.0//EN
BEGIN:VEVENT
SUMMARY:CHAMPIONNAT REGIONAL SALLE - JEUNES & PARA
UID:49ad1543-0615-4b9c-b1cb-81112b7e32f2
DTSTART:20260131T070000Z
DTEND:20260201T160000Z
LOCATION:Localisation Gymnase Intercommunal - Rue Bel Air 17230 MARANS
CATEGORIES:Sportif
STATUS:
DESCRIPTION:<p>Les Archers du Bois Dinot organisent les championnat
 Regional salle Jeunes et Para</p>
 
 <p>Nos jeunes selectionnes en arc
 classique sont : </p>
 
 <p>En U13F : SEBELOU Noemie</p>
 
 <p>En U13GU
 : ITOUA Sohel </p>
 
 <p>En U15F : TOUGNE Camille et MOGA
 Lauryne</p>
 
 <p>En  U15G : THIBAULT Valentin</p>
 
 <p>En U18F : FRAY
 Lou-Ann</p>
 
 <p>Et sans oublier Isabelle Hivert dans la categorie
 PARA.</p>
 
 <p>Bonne chance a tous.</p>
URL;VALUE=URI:https://asatiralarc.sportsregions.fr/evenements/2026/01/31/championnat-regional-salle-jeunes-para-2404497
END:VEVENT
END:VCALENDAR
