BEGIN:VCALENDAR
VERSION:2.0
PRODID:-//hacksw/handcal//NONSGML v1.0//EN
BEGIN:VEVENT
SUMMARY:CHAMPIONNAT DEPARTEMENTAL SALLE ADULTES
UID:4029fc19-ea80-4d7c-97a1-0573af6f226a
DTSTART:20260124T080000Z
DTEND:20260125T170000Z
LOCATION:Localisation Complexe sportif Jehan Buhan 30 av Aristide Briand 33310 LE BOUSCAT
CATEGORIES:Sportif
STATUS:
URL;VALUE=URI:https://asatiralarc.sportsregions.fr/evenements/2026/01/24/championnat-departemental-salle-adultes-2397002
END:VEVENT
END:VCALENDAR
