BEGIN:VCALENDAR
VERSION:2.0
PRODID:-//hacksw/handcal//NONSGML v1.0//EN
BEGIN:VEVENT
SUMMARY:CHAMPIONNAT DEPARTEMENTAL SALLE JEUNES ET PARA
UID:dfcff770-ca55-4752-9f76-d5a044a62530
DTSTART:20260117T080000Z
DTEND:20260118T170000Z
LOCATION:Localisation Salle Polyvalente Avenue Gay Turpin 33360 CAMBLANES ET MEYNAC
CATEGORIES:Sportif
STATUS:
URL;VALUE=URI:https://asatiralarc.sportsregions.fr/evenements/2026/01/17/championnat-departemental-salle-jeunes-et-para-2397000
END:VEVENT
END:VCALENDAR
